BEGIN:VCALENDAR
VERSION:2.0
PRODID:-//ical.marudot.com//iCal Event Maker
CALSCALE:GREGORIAN
BEGIN:VTIMEZONE
TZID:America/Vancouver
LAST-MODIFIED:20250410T142247Z
TZURL:https://www.tzurl.org/zoneinfo-outlook/America/Vancouver
X-LIC-LOCATION:America/Vancouver
BEGIN:DAYLIGHT
TZNAME:PDT
TZOFFSETFROM:-0800
TZOFFSETTO:-0700
DTSTART:19700308T020000
RRULE:FREQ=YEARLY;BYMONTH=3;BYDAY=2SU
END:DAYLIGHT
BEGIN:STANDARD
TZNAME:PST
TZOFFSETFROM:-0700
TZOFFSETTO:-0800
DTSTART:19701101T020000
RRULE:FREQ=YEARLY;BYMONTH=11;BYDAY=1SU
END:STANDARD
END:VTIMEZONE
BEGIN:VEVENT
DTSTAMP:20260223T040718Z
UID:1771819169107-91789@ical.marudot.com
DTSTART;TZID=America/Vancouver:20260315T113000
DTEND;TZID=America/Vancouver:20260315T130000
SUMMARY:Vancouver Journée internationale de sensibilisation à la covid longue 2026
URL:https://societecovid.ca/priorites/la-covid-longue/slcl-evenements-2026/
DESCRIPTION:Orateurs\nDre Jane McKay\nDre Susan Kuo\nLeo Ruhl\nKayli Jamieson
LOCATION:750 Hornby St\, Vancouver\, BC V6Z 2H7
END:VEVENT
END:VCALENDAR