BEGIN:VCALENDAR
VERSION:2.0
PRODID:-//ical.marudot.com//iCal Event Maker
CALSCALE:GREGORIAN
BEGIN:VTIMEZONE
TZID:America/Toronto
LAST-MODIFIED:20250410T142247Z
TZURL:https://www.tzurl.org/zoneinfo-outlook/America/Toronto
X-LIC-LOCATION:America/Toronto
BEGIN:DAYLIGHT
TZNAME:EDT
TZOFFSETFROM:-0500
TZOFFSETTO:-0400
DTSTART:19700308T020000
RRULE:FREQ=YEARLY;BYMONTH=3;BYDAY=2SU
END:DAYLIGHT
BEGIN:STANDARD
TZNAME:EST
TZOFFSETFROM:-0400
TZOFFSETTO:-0500
DTSTART:19701101T020000
RRULE:FREQ=YEARLY;BYMONTH=11;BYDAY=1SU
END:STANDARD
END:VTIMEZONE
BEGIN:VEVENT
DTSTAMP:20260223T040018Z
UID:1771819169107-91789@ical.marudot.com
DTSTART;TZID=America/Toronto:20260315T140000
DTEND;TZID=America/Toronto:20260315T150000
SUMMARY:Toronto Journée internationale de sensibilisation à la covid longue 2026
URL:https://societecovid.ca/priorites/la-covid-longue/slcl-evenements-2026/
DESCRIPTION:Oratrices\nDre Angela Cheung\nMary Jo Nabuurs\nRebecca Lewkowicz
LOCATION:111 Wellesley St W\, Toronto\, ON M7A 1A2
END:VEVENT
END:VCALENDAR