BEGIN:VCALENDAR
VERSION:2.0
PRODID:-//ical.marudot.com//iCal Event Maker
CALSCALE:GREGORIAN
BEGIN:VTIMEZONE
TZID:America/Toronto
LAST-MODIFIED:20250410T142247Z
TZURL:https://www.tzurl.org/zoneinfo-outlook/America/Toronto
X-LIC-LOCATION:America/Toronto
BEGIN:DAYLIGHT
TZNAME:EDT
TZOFFSETFROM:-0500
TZOFFSETTO:-0400
DTSTART:19700308T020000
RRULE:FREQ=YEARLY;BYMONTH=3;BYDAY=2SU
END:DAYLIGHT
BEGIN:STANDARD
TZNAME:EST
TZOFFSETFROM:-0400
TZOFFSETTO:-0500
DTSTART:19701101T020000
RRULE:FREQ=YEARLY;BYMONTH=11;BYDAY=1SU
END:STANDARD
END:VTIMEZONE
BEGIN:VEVENT
DTSTAMP:20260223T040416Z
UID:1771819169107-91789@ical.marudot.com
DTSTART;TZID=America/Toronto:20260315T130000
DTEND;TZID=America/Toronto:20260315T150000
SUMMARY:Montréal Journée internationale de sensibilisation à la covid longue 2026
URL:https://covidsociety.ca/priorities/long-covid/events-lcam-2026/
DESCRIPTION: Orateurs\nDre Thao Huynh\nDre Caroline Grégoire\n Clara\, fille de Dre Grégoire\nGabriel Arteau\nAnnie-Claude Trottier\nRemarque : le port de masques N95 est obligatoire pour cet événement intérieur. Nous en fournirons sur place aux personnes qui n’en auront pas.
LOCATION:4801 Av. Pierre-De Coubertin\, Montréal\, QC H1V 3J3
END:VEVENT
END:VCALENDAR