BEGIN:VCALENDAR
VERSION:2.0
PRODID:-//ical.marudot.com//iCal Event Maker
CALSCALE:GREGORIAN
BEGIN:VTIMEZONE
TZID:America/Edmonton
LAST-MODIFIED:20250410T142247Z
TZURL:https://www.tzurl.org/zoneinfo-outlook/America/Edmonton
X-LIC-LOCATION:America/Edmonton
BEGIN:DAYLIGHT
TZNAME:MDT
TZOFFSETFROM:-0700
TZOFFSETTO:-0600
DTSTART:19700308T020000
RRULE:FREQ=YEARLY;BYMONTH=3;BYDAY=2SU
END:DAYLIGHT
BEGIN:STANDARD
TZNAME:MST
TZOFFSETFROM:-0600
TZOFFSETTO:-0700
DTSTART:19701101T020000
RRULE:FREQ=YEARLY;BYMONTH=11;BYDAY=1SU
END:STANDARD
END:VTIMEZONE
BEGIN:VEVENT
DTSTAMP:20260223T040225Z
UID:1771819169107-91789@ical.marudot.com
DTSTART;TZID=America/Edmonton:20260315T110000
DTEND;TZID=America/Edmonton:20260315T123000
SUMMARY:Calgary Journée internationale de sensibilisation à la covid longue 2026
URL:https://societecovid.ca/priorites/la-covid-longue/slcl-evenements-2026/
DESCRIPTION:Orateurs\nDre Malgorzata (Gosia) Gasperowicz\nDr David Keegan\nRashmin Hira\, étudiante au doctorat en sciences cardiovasculaires et respiratoires\nKaren Lord\, qui lira un témoignage d’Olive
LOCATION:618 Confluence Way SE\, Calgary\, AB T2G 0G1
END:VEVENT
END:VCALENDAR